BEGIN:VCALENDAR
VERSION:2.0
PRODID:-//Plone.org//NONSGML plone.app.event//EN
X-WR-TIMEZONE:Europe/Rome
BEGIN:VEVENT
SUMMARY:Health in cities: new priorities and the role of UNIBO in their im
 plementation
DTSTART;TZID=Europe/Rome;VALUE=DATE-TIME:20230428T143000
DTEND;TZID=Europe/Rome;VALUE=DATE-TIME:20230428T180000
DTSTAMP;VALUE=DATE-TIME:20260422T001910Z
UID:1d51a8e52f0b4d25b54391409354c1e2@industrial-chemistry.unibo.it
CREATED;VALUE=DATE-TIME:20230423T113957Z
DESCRIPTION:Presentation\, in concert with the Health City Institute\, of 
 the main national and European UNIBO projects aimed at innovative urban pl
 anning for healthy cities.
LAST-MODIFIED;VALUE=DATE-TIME:20230423T114116Z
URL:https://industrial-chemistry.unibo.it/en/events/health-in-cities-new-p
 riorities-and-the-role-of-unibo-in-their-implementation
END:VEVENT
BEGIN:VTIMEZONE
TZID:Europe/Rome
X-LIC-LOCATION:Europe/Rome
BEGIN:DAYLIGHT
DTSTART;VALUE=DATE-TIME:20230326T030000
TZNAME:CEST
TZOFFSETFROM:+0100
TZOFFSETTO:+0200
END:DAYLIGHT
END:VTIMEZONE
END:VCALENDAR
