BEGIN:VCALENDAR
VERSION:2.0
PRODID:-//Plone.org//NONSGML plone.app.event//EN
X-WR-TIMEZONE:Europe/Rome
BEGIN:VEVENT
SUMMARY:Digital Support in Chemistry Teaching
DTSTART;TZID=Europe/Rome;VALUE=DATE-TIME:20230619T130000
DTEND;TZID=Europe/Rome;VALUE=DATE-TIME:20230722T140000
DTSTAMP;VALUE=DATE-TIME:20260423T200956Z
UID:c6bbd77b6c984952974267f89a23edbe@industrial-chemistry.unibo.it
CREATED;VALUE=DATE-TIME:20230717T113355Z
DESCRIPTION:Learning\, Teaching Training Activities (LTTA)
LAST-MODIFIED;VALUE=DATE-TIME:20230717T113624Z
URL:https://industrial-chemistry.unibo.it/en/events/digital-support-in-che
 mistry-teaching
END:VEVENT
BEGIN:VTIMEZONE
TZID:Europe/Rome
X-LIC-LOCATION:Europe/Rome
BEGIN:DAYLIGHT
DTSTART;VALUE=DATE-TIME:20230326T030000
TZNAME:CEST
TZOFFSETFROM:+0100
TZOFFSETTO:+0200
END:DAYLIGHT
END:VTIMEZONE
END:VCALENDAR
